BEGIN:VCALENDAR
VERSION:2.0
PRODID:-//hacksw/handcal//NONSGML v1.0//EN
BEGIN:VEVENT
UID:491
DTSTART;VALUE=DATE:20140131
URL;VALUE=URI:ohschonhell.at/?page_id=2942
SUMMARY:united colors of beton ||| evol [wred∞brett]
LOCATION:MASSIV
END:VEVENT
END:VCALENDAR


