BEGIN:VCALENDAR
VERSION:2.0
PRODID:-//hacksw/handcal//NONSGML v1.0//EN
BEGIN:VEVENT
UID:4915
DTSTART;VALUE=DATE:20151025
URL;VALUE=URI:ohschonhell.at/?page_id=8881
SUMMARY:AUSLAGE: MIHALIS SAFRAS / MEGABLAST / ROLLING BEATS
LOCATION:AUSLAGE
END:VEVENT
END:VCALENDAR


