BEGIN:VCALENDAR
VERSION:2.0
PRODID:-//hacksw/handcal//NONSGML v1.0//EN
BEGIN:VEVENT
UID:4922
DTSTART;VALUE=DATE:20151015
URL;VALUE=URI:ohschonhell.at/?page_id=8896
SUMMARY:&quot\;Stompin&#039\; Grounds&quot\; - Disco\, Soul\, Funk\, Boogie\, Garage House
LOCATION:KIOSK SCHLEIFMÜHLGASSE
END:VEVENT
END:VCALENDAR


