BEGIN:VCALENDAR
VERSION:2.0
PRODID:-//hacksw/handcal//NONSGML v1.0//EN
BEGIN:VEVENT
UID:4929
DTSTART;VALUE=DATE:20151031
URL;VALUE=URI:ohschonhell.at/?page_id=8913
SUMMARY:S K U L L D I S C O ►issue #11
LOCATION:DUAL
END:VEVENT
END:VCALENDAR


