BEGIN:VCALENDAR
VERSION:2.0
PRODID:-//hacksw/handcal//NONSGML v1.0//EN
BEGIN:VEVENT
UID:4931
DTSTART;VALUE=DATE:20151022
URL;VALUE=URI:ohschonhell.at/?page_id=8917
SUMMARY:slobberclub
LOCATION:ELEKTRO GÖNNER
END:VEVENT
END:VCALENDAR


