BEGIN:VCALENDAR
VERSION:2.0
PRODID:-//hacksw/handcal//NONSGML v1.0//EN
BEGIN:VEVENT
UID:4960
DTSTART;VALUE=DATE:20151016
URL;VALUE=URI:ohschonhell.at/?page_id=8983
SUMMARY:Stadt Land Fluss @ Elektro Gönner
LOCATION:ELEKTRO GÖNNER
END:VEVENT
END:VCALENDAR


