BEGIN:VCALENDAR
VERSION:2.0
PRODID:-//hacksw/handcal//NONSGML v1.0//EN
BEGIN:VEVENT
UID:4964
DTSTART;VALUE=DATE:20151015
URL;VALUE=URI:ohschonhell.at/?page_id=8991
SUMMARY:◄ SEVEN BAR{t}\, BART ♬♫ &amp\; BUSEN ❥ Part FIVE
LOCATION:Seven
END:VEVENT
END:VCALENDAR


