BEGIN:VCALENDAR
VERSION:2.0
PRODID:-//hacksw/handcal//NONSGML v1.0//EN
BEGIN:VEVENT
UID:5003
DTSTART;VALUE=DATE:20151107
URL;VALUE=URI:ohschonhell.at/?page_id=9071
SUMMARY:HEUTE: 15 Jahre HYPNOTIC - mit Len Faki\, Marco Bailey &amp\; Sasha Carassi uvm.
LOCATION:ADMIRAL DOME
END:VEVENT
END:VCALENDAR


