BEGIN:VCALENDAR
VERSION:2.0
PRODID:-//hacksw/handcal//NONSGML v1.0//EN
BEGIN:VEVENT
UID:501
DTSTART;VALUE=DATE:20140125
URL;VALUE=URI:ohschonhell.at/?page_id=2953
SUMMARY:Salopp! mit Mann&amp\;Klamm
LOCATION:BRUT
END:VEVENT
END:VCALENDAR


