BEGIN:VCALENDAR
VERSION:2.0
PRODID:-//hacksw/handcal//NONSGML v1.0//EN
BEGIN:VEVENT
UID:5017
DTSTART;VALUE=DATE:20151029
URL;VALUE=URI:ohschonhell.at/?page_id=9100
SUMMARY:Chaya - [dunkelbunt] (DJ Set) [strictly vinyl]
LOCATION:CHAYA FUERA
END:VEVENT
END:VCALENDAR


