BEGIN:VCALENDAR
VERSION:2.0
PRODID:-//hacksw/handcal//NONSGML v1.0//EN
BEGIN:VEVENT
UID:5021
DTSTART;VALUE=DATE:20151120
URL;VALUE=URI:ohschonhell.at/?page_id=9108
SUMMARY:WIEN MODERN StudioNACHT III
LOCATION:ELEKTRO GÖNNER
END:VEVENT
END:VCALENDAR


