BEGIN:VCALENDAR
VERSION:2.0
PRODID:-//hacksw/handcal//NONSGML v1.0//EN
BEGIN:VEVENT
UID:5023
DTSTART;VALUE=DATE:20151104
URL;VALUE=URI:ohschonhell.at/?page_id=9112
SUMMARY:DISCO MUSCLE - One Year Strong
LOCATION:ELEKTRO GÖNNER
END:VEVENT
END:VCALENDAR


