BEGIN:VCALENDAR
VERSION:2.0
PRODID:-//hacksw/handcal//NONSGML v1.0//EN
BEGIN:VEVENT
UID:5024
DTSTART;VALUE=DATE:20151025
URL;VALUE=URI:ohschonhell.at/?page_id=9114
SUMMARY:SHWIPS w/ djs pantomas &amp\; fillfonso
LOCATION:ELEKTRO GÖNNER
END:VEVENT
END:VCALENDAR


