BEGIN:VCALENDAR
VERSION:2.0
PRODID:-//hacksw/handcal//NONSGML v1.0//EN
BEGIN:VEVENT
UID:5037
DTSTART;VALUE=DATE:20151113
URL;VALUE=URI:ohschonhell.at/?page_id=9145
SUMMARY:LAUD DUAL
LOCATION:DUAL
END:VEVENT
END:VCALENDAR


