BEGIN:VCALENDAR
VERSION:2.0
PRODID:-//hacksw/handcal//NONSGML v1.0//EN
BEGIN:VEVENT
UID:5039
DTSTART;VALUE=DATE:20151107
URL;VALUE=URI:ohschonhell.at/?page_id=9149
SUMMARY:MODEMODE:der.klub.does:HEJKACYWOTTHEF*CKISGOINGON
LOCATION:ELEKTRO GÖNNER
END:VEVENT
END:VCALENDAR


