BEGIN:VCALENDAR
VERSION:2.0
PRODID:-//hacksw/handcal//NONSGML v1.0//EN
BEGIN:VEVENT
UID:504
DTSTART;VALUE=DATE:20140117
URL;VALUE=URI:ohschonhell.at/?page_id=2956
SUMMARY:Missing Kissing #2 — The Jam Session
LOCATION:OBEN
END:VEVENT
END:VCALENDAR


