BEGIN:VCALENDAR
VERSION:2.0
PRODID:-//hacksw/handcal//NONSGML v1.0//EN
BEGIN:VEVENT
UID:5040
DTSTART;VALUE=DATE:20151105
URL;VALUE=URI:ohschonhell.at/?page_id=9151
SUMMARY:VIENNALE CLOSING PARTY avec BANDE À PART
LOCATION:VIENNALE FESTIVALZENTRUM
END:VEVENT
END:VCALENDAR


