BEGIN:VCALENDAR
VERSION:2.0
PRODID:-//hacksw/handcal//NONSGML v1.0//EN
BEGIN:VEVENT
UID:5042
DTSTART;VALUE=DATE:20151025
URL;VALUE=URI:ohschonhell.at/?page_id=9155
SUMMARY:HÄNGENGEBLIEBEN vol. I
LOCATION:DUAL
END:VEVENT
END:VCALENDAR


