BEGIN:VCALENDAR
VERSION:2.0
PRODID:-//hacksw/handcal//NONSGML v1.0//EN
BEGIN:VEVENT
UID:5068
DTSTART;VALUE=DATE:20151030
URL;VALUE=URI:ohschonhell.at/?page_id=9209
SUMMARY:PLEMPLEM™ feat. Deborah De Luca 웃유 ● Die Kantine
LOCATION:DIE KANTINE
END:VEVENT
END:VCALENDAR


