BEGIN:VCALENDAR
VERSION:2.0
PRODID:-//hacksw/handcal//NONSGML v1.0//EN
BEGIN:VEVENT
UID:5078
DTSTART;VALUE=DATE:20151030
URL;VALUE=URI:ohschonhell.at/?page_id=9229
SUMMARY:Shake that....
LOCATION:Seven
END:VEVENT
END:VCALENDAR


