BEGIN:VCALENDAR
VERSION:2.0
PRODID:-//hacksw/handcal//NONSGML v1.0//EN
BEGIN:VEVENT
UID:5079
DTSTART;VALUE=DATE:20151029
URL;VALUE=URI:ohschonhell.at/?page_id=9231
SUMMARY:Sag es nicht meiner Mutter
LOCATION:Seven
END:VEVENT
END:VCALENDAR


