BEGIN:VCALENDAR
VERSION:2.0
PRODID:-//hacksw/handcal//NONSGML v1.0//EN
BEGIN:VEVENT
UID:5092
DTSTART;VALUE=DATE:20151114
URL;VALUE=URI:ohschonhell.at/?page_id=9259
SUMMARY:Heute: ClassiX - Eine Party wie in der guten alten Zeit(Gänsehaut und Megastimmung garantiert) zum vorletzen mal In der Kantine
LOCATION:DIE KANTINE
END:VEVENT
END:VCALENDAR


