BEGIN:VCALENDAR
VERSION:2.0
PRODID:-//hacksw/handcal//NONSGML v1.0//EN
BEGIN:VEVENT
UID:5094
DTSTART;VALUE=DATE:20151128
URL;VALUE=URI:ohschonhell.at/?page_id=9263
SUMMARY:International Major Label Release: SKYMAX (IML002)
LOCATION:ELEKTRO GÖNNER
END:VEVENT
END:VCALENDAR


