BEGIN:VCALENDAR
VERSION:2.0
PRODID:-//hacksw/handcal//NONSGML v1.0//EN
BEGIN:VEVENT
UID:5137
DTSTART;VALUE=DATE:20151212
URL;VALUE=URI:ohschonhell.at/?page_id=9355
SUMMARY:PSYLOGIC (B-BASH) - anschließend AFTERHOUR in der KULT(UR) SCHMELZE
LOCATION:CAFE DERWISCH
END:VEVENT
END:VCALENDAR


