BEGIN:VCALENDAR
VERSION:2.0
PRODID:-//hacksw/handcal//NONSGML v1.0//EN
BEGIN:VEVENT
UID:5149
DTSTART;VALUE=DATE:20151127
URL;VALUE=URI:ohschonhell.at/?page_id=9379
SUMMARY:FLC X VIHANNA || DJ HAUS
LOCATION:AUX GAZELLES
END:VEVENT
END:VCALENDAR


