BEGIN:VCALENDAR
VERSION:2.0
PRODID:-//hacksw/handcal//NONSGML v1.0//EN
BEGIN:VEVENT
UID:5154
DTSTART;VALUE=DATE:20151119
URL;VALUE=URI:ohschonhell.at/?page_id=9389
SUMMARY:Elektro-STAMMTISCH 6.0
LOCATION:RADIO - THE LABEL BAR
END:VEVENT
END:VCALENDAR


