BEGIN:VCALENDAR
VERSION:2.0
PRODID:-//hacksw/handcal//NONSGML v1.0//EN
BEGIN:VEVENT
UID:5157
DTSTART;VALUE=DATE:20151114
URL;VALUE=URI:ohschonhell.at/?page_id=9395
SUMMARY:V̶A̶N̶I̶L̶L̶A̶
LOCATION:HEUER AM KARLSPLATZ
END:VEVENT
END:VCALENDAR


