BEGIN:VCALENDAR
VERSION:2.0
PRODID:-//hacksw/handcal//NONSGML v1.0//EN
BEGIN:VEVENT
UID:5165
DTSTART;VALUE=DATE:20151112
URL;VALUE=URI:ohschonhell.at/?page_id=9411
SUMMARY:SOFT RIOT / UNCANNY VALLEY / HAUSFRAU
LOCATION:Kramladen
END:VEVENT
END:VCALENDAR


