BEGIN:VCALENDAR
VERSION:2.0
PRODID:-//hacksw/handcal//NONSGML v1.0//EN
BEGIN:VEVENT
UID:5214
DTSTART;VALUE=DATE:20151210
URL;VALUE=URI:ohschonhell.at/?page_id=9514
SUMMARY:Tiefton Anomalien || Elektro Gönner
LOCATION:ELEKTRO GÖNNER
END:VEVENT
END:VCALENDAR


