BEGIN:VCALENDAR
VERSION:2.0
PRODID:-//hacksw/handcal//NONSGML v1.0//EN
BEGIN:VEVENT
UID:5216
DTSTART;VALUE=DATE:20151125
URL;VALUE=URI:ohschonhell.at/?page_id=9518
SUMMARY:eLeKTro göNNer aLL bARS #9 w/ BCKSRCKR\, WAXTER DANCEL\, ERDBALL
LOCATION:ELEKTRO GÖNNER
END:VEVENT
END:VCALENDAR


