BEGIN:VCALENDAR
VERSION:2.0
PRODID:-//hacksw/handcal//NONSGML v1.0//EN
BEGIN:VEVENT
UID:5232
DTSTART;VALUE=DATE:20151124
URL;VALUE=URI:ohschonhell.at/?page_id=9552
SUMMARY:dj michael dehli
LOCATION:DELI AM NASCHMARKT
END:VEVENT
END:VCALENDAR


