BEGIN:VCALENDAR
VERSION:2.0
PRODID:-//hacksw/handcal//NONSGML v1.0//EN
BEGIN:VEVENT
UID:5235
DTSTART;VALUE=DATE:20151127
URL;VALUE=URI:ohschonhell.at/?page_id=9558
SUMMARY:UPD8E pres. BASS.INVADAZ
LOCATION:DUAL
END:VEVENT
END:VCALENDAR


