BEGIN:VCALENDAR
VERSION:2.0
PRODID:-//hacksw/handcal//NONSGML v1.0//EN
BEGIN:VEVENT
UID:5240
DTSTART;VALUE=DATE:20151204
URL;VALUE=URI:ohschonhell.at/?page_id=9568
SUMMARY:TECHNOHEURIGER DIE ZWEITE
LOCATION:CHAYA FUERA
END:VEVENT
END:VCALENDAR


