BEGIN:VCALENDAR
VERSION:2.0
PRODID:-//hacksw/handcal//NONSGML v1.0//EN
BEGIN:VEVENT
UID:5243
DTSTART;VALUE=DATE:20151127
URL;VALUE=URI:ohschonhell.at/?page_id=9575
SUMMARY:Pas de deux: Foxy Twins vs. Disco Duro
LOCATION:ROTE BAR
END:VEVENT
END:VCALENDAR


