BEGIN:VCALENDAR
VERSION:2.0
PRODID:-//hacksw/handcal//NONSGML v1.0//EN
BEGIN:VEVENT
UID:5257
DTSTART;VALUE=DATE:20151204
URL;VALUE=URI:ohschonhell.at/?page_id=9605
SUMMARY:dj alex kolodziej
LOCATION:DELI AM NASCHMARKT
END:VEVENT
END:VCALENDAR


