BEGIN:VCALENDAR
VERSION:2.0
PRODID:-//hacksw/handcal//NONSGML v1.0//EN
BEGIN:VEVENT
UID:5265
DTSTART;VALUE=DATE:20151203
URL;VALUE=URI:ohschonhell.at/?page_id=9621
SUMMARY:ASTRA
LOCATION:ELEKTRO GÖNNER
END:VEVENT
END:VCALENDAR


