BEGIN:VCALENDAR
VERSION:2.0
PRODID:-//hacksw/handcal//NONSGML v1.0//EN
BEGIN:VEVENT
UID:5284
DTSTART;VALUE=DATE:20151222
URL;VALUE=URI:ohschonhell.at/?page_id=9678
SUMMARY:im moos: trockenmoos vs dj romanova (fabrique records)
LOCATION:ELEKTRO GÖNNER
END:VEVENT
END:VCALENDAR


