BEGIN:VCALENDAR
VERSION:2.0
PRODID:-//hacksw/handcal//NONSGML v1.0//EN
BEGIN:VEVENT
UID:5291
DTSTART;VALUE=DATE:20151218
URL;VALUE=URI:ohschonhell.at/?page_id=9692
SUMMARY:Nativa Festival Preparty @ Die Kantine
LOCATION:DIE KANTINE
END:VEVENT
END:VCALENDAR


