BEGIN:VCALENDAR
VERSION:2.0
PRODID:-//hacksw/handcal//NONSGML v1.0//EN
BEGIN:VEVENT
UID:5303
DTSTART;VALUE=DATE:20151211
URL;VALUE=URI:ohschonhell.at/?page_id=9716
SUMMARY:SUPERDISKO
LOCATION:ELEKTRO GÖNNER
END:VEVENT
END:VCALENDAR


