BEGIN:VCALENDAR
VERSION:2.0
PRODID:-//hacksw/handcal//NONSGML v1.0//EN
BEGIN:VEVENT
UID:5320
DTSTART;VALUE=DATE:20160108
URL;VALUE=URI:ohschonhell.at/?page_id=9753
SUMMARY:technolog @ dual
LOCATION:DUAL
END:VEVENT
END:VCALENDAR


