BEGIN:VCALENDAR
VERSION:2.0
PRODID:-//hacksw/handcal//NONSGML v1.0//EN
BEGIN:VEVENT
UID:5334
DTSTART;VALUE=DATE:20151231
URL;VALUE=URI:ohschonhell.at/?page_id=9781
SUMMARY:NEUJAHRSTANZ 2016
LOCATION:DUAL
END:VEVENT
END:VCALENDAR


