BEGIN:VCALENDAR
VERSION:2.0
PRODID:-//hacksw/handcal//NONSGML v1.0//EN
BEGIN:VEVENT
UID:535
DTSTART;VALUE=DATE:20140131
URL;VALUE=URI:ohschonhell.at/?page_id=2988
SUMMARY:ELECTRIC FOREST WU | 31.01
LOCATION:WU MENSA
END:VEVENT
END:VCALENDAR


