BEGIN:VCALENDAR
VERSION:2.0
PRODID:-//hacksw/handcal//NONSGML v1.0//EN
BEGIN:VEVENT
UID:5369
DTSTART;VALUE=DATE:20151217
URL;VALUE=URI:ohschonhell.at/?page_id=9855
SUMMARY:Bart &amp\; Busen´s Advent Donnerstag
LOCATION:Seven
END:VEVENT
END:VCALENDAR


