BEGIN:VCALENDAR
VERSION:2.0
PRODID:-//hacksw/handcal//NONSGML v1.0//EN
BEGIN:VEVENT
UID:5373
DTSTART;VALUE=DATE:20151225
URL;VALUE=URI:ohschonhell.at/?page_id=9864
SUMMARY:Bad Santa pres. Make Happiness a dirty habit [25|12|2015]
LOCATION:CHAYA FUERA
END:VEVENT
END:VCALENDAR


