BEGIN:VCALENDAR
VERSION:2.0
PRODID:-//hacksw/handcal//NONSGML v1.0//EN
BEGIN:VEVENT
UID:5376
DTSTART;VALUE=DATE:20151223
URL;VALUE=URI:ohschonhell.at/?page_id=9870
SUMMARY:DJ Okim
LOCATION:SCHIKANEDER
END:VEVENT
END:VCALENDAR


