BEGIN:VCALENDAR
VERSION:2.0
PRODID:-//hacksw/handcal//NONSGML v1.0//EN
BEGIN:VEVENT
UID:5385
DTSTART;VALUE=DATE:20160116
URL;VALUE=URI:ohschonhell.at/?page_id=9891
SUMMARY:VERWIRRT MIT DENKFABRIKAT ALLSTARS
LOCATION:DUAL
END:VEVENT
END:VCALENDAR


