BEGIN:VCALENDAR
VERSION:2.0
PRODID:-//hacksw/handcal//NONSGML v1.0//EN
BEGIN:VEVENT
UID:5387
DTSTART;VALUE=DATE:20160115
URL;VALUE=URI:ohschonhell.at/?page_id=9895
SUMMARY:PANTA RHEI #3
LOCATION:RAGNARHOF
END:VEVENT
END:VCALENDAR


