BEGIN:VCALENDAR
VERSION:2.0
PRODID:-//hacksw/handcal//NONSGML v1.0//EN
BEGIN:VEVENT
UID:539
DTSTART;VALUE=DATE:20140117
URL;VALUE=URI:ohschonhell.at/?page_id=2992
SUMMARY:DEJA VU | DOTS 21 | FR\, 17.01.14
LOCATION:DOTS twentyone
END:VEVENT
END:VCALENDAR


