BEGIN:VCALENDAR
VERSION:2.0
PRODID:-//hacksw/handcal//NONSGML v1.0//EN
BEGIN:VEVENT
UID:5392
DTSTART;VALUE=DATE:20160106
URL;VALUE=URI:ohschonhell.at/?page_id=9905
SUMMARY:DISCO MUSCLE
LOCATION:ELEKTRO GÖNNER
END:VEVENT
END:VCALENDAR


