BEGIN:VCALENDAR
VERSION:2.0
PRODID:-//hacksw/handcal//NONSGML v1.0//EN
BEGIN:VEVENT
UID:5394
DTSTART;VALUE=DATE:20160105
URL;VALUE=URI:ohschonhell.at/?page_id=9909
SUMMARY:DISCO 2016 - FRITZ PLÖCKINGER &amp\; REENO RELUV
LOCATION:ELEKTRO GÖNNER
END:VEVENT
END:VCALENDAR


